BEGIN:VCALENDAR
VERSION:2.0
PRODID:-// - ECPv6.15.20//NONSGML v1.0//EN
CALSCALE:GREGORIAN
METHOD:PUBLISH
X-ORIGINAL-URL:https://brownstoneconsults.com
X-WR-CALDESC:Events for 
REFRESH-INTERVAL;VALUE=DURATION:PT1H
X-Robots-Tag:noindex
X-PUBLISHED-TTL:PT1H
BEGIN:VTIMEZONE
TZID:America/Denver
BEGIN:DAYLIGHT
TZOFFSETFROM:-0700
TZOFFSETTO:-0600
TZNAME:MDT
DTSTART:20250309T090000
END:DAYLIGHT
BEGIN:STANDARD
TZOFFSETFROM:-0600
TZOFFSETTO:-0700
TZNAME:MST
DTSTART:20251102T080000
END:STANDARD
BEGIN:DAYLIGHT
TZOFFSETFROM:-0700
TZOFFSETTO:-0600
TZNAME:MDT
DTSTART:20260308T090000
END:DAYLIGHT
BEGIN:STANDARD
TZOFFSETFROM:-0600
TZOFFSETTO:-0700
TZNAME:MST
DTSTART:20261101T080000
END:STANDARD
BEGIN:DAYLIGHT
TZOFFSETFROM:-0700
TZOFFSETTO:-0600
TZNAME:MDT
DTSTART:20270314T090000
END:DAYLIGHT
BEGIN:STANDARD
TZOFFSETFROM:-0600
TZOFFSETTO:-0700
TZNAME:MST
DTSTART:20271107T080000
END:STANDARD
END:VTIMEZONE
BEGIN:VEVENT
DTSTART;TZID=America/Denver:20260422T130000
DTEND;TZID=America/Denver:20260422T150000
DTSTAMP:20260420T032005
CREATED:20260409T165330Z
LAST-MODIFIED:20260409T165330Z
UID:407-1776862800-1776870000@brownstoneconsults.com
SUMMARY:Are You Compliant With I.R.S? (Building a Stronger Foundation)
DESCRIPTION:
URL:https://brownstoneconsults.com/event/are-you-compliant-with-i-r-s-building-a-stronger-foundation-2/
LOCATION:Green Valley Ranch Library\, 4856 Andes Ct\, Denver\, CO\, 80249\, United States
ORGANIZER;CN="Annette Hunter":MAILTO:brownstoneconsults@gmail.com
END:VEVENT
BEGIN:VEVENT
DTSTART;TZID=America/Denver:20260506T130000
DTEND;TZID=America/Denver:20260506T150000
DTSTAMP:20260420T032005
CREATED:20260409T172117Z
LAST-MODIFIED:20260409T172117Z
UID:419-1778072400-1778079600@brownstoneconsults.com
SUMMARY:Compliance Counts: Protecting Your Mission Through Accountability
DESCRIPTION:
URL:https://brownstoneconsults.com/event/compliance-counts-protecting-your-mission-through-accountability/
LOCATION:Green Valley Ranch Library\, 4856 Andes Ct\, Denver\, CO\, 80249\, United States
ORGANIZER;CN="Annette Hunter":MAILTO:brownstoneconsults@gmail.com
END:VEVENT
BEGIN:VEVENT
DTSTART;TZID=America/Denver:20260520T130000
DTEND;TZID=America/Denver:20260520T150000
DTSTAMP:20260420T032005
CREATED:20260409T172420Z
LAST-MODIFIED:20260409T172420Z
UID:422-1779282000-1779289200@brownstoneconsults.com
SUMMARY:How to Get Funding for a Nonprofit Organization
DESCRIPTION:
URL:https://brownstoneconsults.com/event/how-to-get-funding-for-a-nonprofit-organization/
LOCATION:Green Valley Ranch Library\, 4856 Andes Ct\, Denver\, CO\, 80249\, United States
ORGANIZER;CN="Annette Hunter":MAILTO:brownstoneconsults@gmail.com
END:VEVENT
END:VCALENDAR